BEGIN:VCALENDAR
VERSION:2.0
PRODID:-//Wanda Joyce Robinson Foundation - ECPv6.15.20//NONSGML v1.0//EN
CALSCALE:GREGORIAN
METHOD:PUBLISH
X-ORIGINAL-URL:https://wjrfoundation.org
X-WR-CALDESC:Events for Wanda Joyce Robinson Foundation
REFRESH-INTERVAL;VALUE=DURATION:PT1H
X-Robots-Tag:noindex
X-PUBLISHED-TTL:PT1H
BEGIN:VTIMEZONE
TZID:UTC
BEGIN:STANDARD
TZOFFSETFROM:+0000
TZOFFSETTO:+0000
TZNAME:UTC
DTSTART:20240101T000000
END:STANDARD
END:VTIMEZONE
BEGIN:VEVENT
DTSTART;TZID=UTC:20250822T173000
DTEND;TZID=UTC:20250822T210000
DTSTAMP:20260421T111459
CREATED:20250509T002007Z
LAST-MODIFIED:20250820T170534Z
UID:9522-1755883800-1755896400@wjrfoundation.org
SUMMARY:3K Glow
DESCRIPTION:Join us for our first ever Glow Run! This is a fundraiser for Wanda Joyce Robinson Foundation. We hope you will come for community fun and a good cause. \nTake the fast pace\, or keep it slow and steady–either way\, you’re moving! Wear your neon colors and come ready for fun. \nWe will have hydration stations\, snacks\, and music to keep you going\, but feel free to bring your own water bottle. \nOnline registration has closed. Day of registration will be open prior to the event starting at 5:30pm. Shirts are not guaranteed for day of registrants.\n  \nOnline Registration (through August 18) \n$25 per participant\, ages 5 and up \nAges 5 and under are free and will receive glow wear \n  \nRace Day Registration (on August 22) \n$30 per participant\, ages 5 and up \nAges 5 and under are free and will receive glow wear \n  \nRegister by August 1 to receive a neon t-shirt! \n\n\nLocation: Lakeview Park\, Frankfort KY\nDay of Race Registration opens at 5:30pm\nRunners and Walkers start at 7:00pm\n\n\nPrizes: \n\nFirst Place\nSecond Place\nThird Place\nBest Glow Outfit
URL:https://wjrfoundation.org/event/3k-glow/
LOCATION:Lakeview Park\, Frankfort\, KY\, 40601\, United States
ATTACH;FMTTYPE=image/jpeg:https://wjrfoundation.org/wp-content/uploads/2025/05/3K-Aug-22-scaled.jpg
ORGANIZER;CN="Wanda Joyce Robinson Foundation":MAILTO:info@wjrfoundation.org
END:VEVENT
END:VCALENDAR